BEGIN:VCALENDAR
VERSION:2.0
PRODID:-//Your Organization//EN
BEGIN:VEVENT
UID:69e65d20ca356@yourdomain.com
DTSTAMP:20260420T170640Z
DTSTART:20260503T160000
DTEND:20260503T193000
SUMMARY:FAMILY NAPPY NIGHT (BANK HOLIDAY SUNDAY 3rd MAY)
DESCRIPTION:Family Nappy Night - Bank Holiday Sunday! 

Join us for a fun-filled afternoon at The Emporium on Sunday 3rd May from 4:00pm - 7:00pm!

Get ready More info: https://www.skiddle.com/whats-on/Leicester/The-Emporium/FAMILY-NAPPY-NIGHT-BANK-HOLIDAY-SUNDAY-3rd-MAY/42362065/
LOCATION:The Emporium\, 67 Belvoir Road
END:VEVENT
END:VCALENDAR