BEGIN:VCALENDAR
VERSION:2.0
PRODID:-//Your Organization//EN
BEGIN:VEVENT
UID:69e6573f0bb49@yourdomain.com
DTSTAMP:20260420T164135Z
DTSTART:20260425T190000
DTEND:20260426T030000
SUMMARY:April 25th | Sektor Ø | The Rocketman\, MIDDLTN + Guests
DESCRIPTION:Live in a 360° Techno Experience. More info: https://www.skiddle.com/whats-on/Leicester/The-Emporium/April-25th--Sektor---The-Rocketman-MIDDLTN--Guests/42254180/
LOCATION:The Emporium\, 67 Belvoir Road
END:VEVENT
END:VCALENDAR