BEGIN:VCALENDAR
VERSION:2.0
PRODID:-//Your Organization//EN
BEGIN:VEVENT
UID:69e670a82770c@yourdomain.com
DTSTAMP:20260420T183000Z
DTSTART:20260613T150000
DTEND:20260614T020000
SUMMARY:Show me love
DESCRIPTION:Day to night Rave massive line up More info: https://www.skiddle.com/whats-on/Leicester/The-Emporium/Show-me-love/42083834/
LOCATION:The Emporium\, 67 Belvoir Road
END:VEVENT
END:VCALENDAR