BEGIN:VCALENDAR
VERSION:2.0
PRODID:-//Your Organization//EN
BEGIN:VEVENT
UID:69e65b03cb77a@yourdomain.com
DTSTAMP:20260420T165739Z
DTSTART:20260606T130000
DTEND:20260607T010000
SUMMARY:Insomniacz | This is Hard House Festival
DESCRIPTION:Our Hard House Festival rolls in like a sonic cyclone\, bringing an outdoor stage\, delicious food vendors\, and a full club takeover More info: https://www.skiddle.com/whats-on/Leicester/The-Emporium/Insomniacz--This-is-Hard-House-Festival/41627383/
LOCATION:The Emporium\, 67 Belvoir Road
END:VEVENT
END:VCALENDAR