BEGIN:VCALENDAR
VERSION:2.0
PRODID:-//Your Organization//EN
BEGIN:VEVENT
UID:69e66d7d50c0b@yourdomain.com
DTSTAMP:20260420T181629Z
DTSTART:20260516T190000
DTEND:20260517T000000
SUMMARY:May 16th | Abba Stars
DESCRIPTION:Get ready for a full-on night of disco magic as ABBASTARS UK hit the stage Saturday 16th May at The Emporium Nightclub More info: https://www.skiddle.com/whats-on/Leicester/The-Emporium/May-16th--Abba-Stars/41988552/
LOCATION:The Emporium\, 67 Belvoir Road
END:VEVENT
END:VCALENDAR